


BEGIN:VCALENDAR
VERSION:2.0
PRODID:-//#Xàbiajove - ECPv6.0.3.1//NONSGML v1.0//EN
CALSCALE:GREGORIAN
METHOD:PUBLISH
X-ORIGINAL-URL:https://xabiajove.com
X-WR-CALDESC:Esdeveniments per #Xàbiajove
REFRESH-INTERVAL;VALUE=DURATION:PT1H
X-Robots-Tag:noindex
X-PUBLISHED-TTL:PT1H
BEGIN:VTIMEZONE
TZID:Europe/Madrid
BEGIN:DAYLIGHT
TZOFFSETFROM:+0100
TZOFFSETTO:+0200
TZNAME:CEST
DTSTART:20230326T010000
END:DAYLIGHT
BEGIN:STANDARD
TZOFFSETFROM:+0200
TZOFFSETTO:+0100
TZNAME:CET
DTSTART:20231029T010000
END:STANDARD
END:VTIMEZONE
BEGIN:VEVENT
DTSTART;VALUE=DATE:20231106
DTEND;VALUE=DATE:20231126
DTSTAMP:20260423T231441
CREATED:20231117T115259Z
LAST-MODIFIED:20231117T115259Z
UID:691-1699243200-1700884799@xabiajove.com
SUMMARY:Convocatoria Programa Internacional 2024/2025 Universidad Valencia
DESCRIPTION:Abierto el plazo de presentación de solicitudes para la convocatoria del Programa Internacional 2024/2025 de la Universidad de Valencia. \nMás Info: https://www.uv.es/uvweb/universidad/es/relaciones-internacionales/relaciones-internacionales/programa-internacional/outgoing/convocatorias-1285865233906.html
URL:https://xabiajove.com/event/convocatoria-programa-internacional-2024-2025-universidad-valencia/
ATTACH;FMTTYPE=image/jpeg:https://xabiajove.com/cont/uploads/2023/11/ben-white-gekmstkfz6w-unsplash-scaled.jpg
END:VEVENT
BEGIN:VEVENT
DTSTART;VALUE=DATE:20231107
DTEND;VALUE=DATE:20231126
DTSTAMP:20260423T231441
CREATED:20231113T092238Z
LAST-MODIFIED:20231113T092238Z
UID:648-1699329600-1700884799@xabiajove.com
SUMMARY:Camps de Voluntariat
DESCRIPTION:Ja són ací els Camps de Voluntariat d’hivern de l’IVAJ Diverteix-te I\, a Benicàssim\, i Diverteix-te II\, a Biar. \nSi voleu viure una experiència de voluntariat\, realitzant activitats lúdiques i socioeducatives amb xiquets i xiquetes de nou a dotze anys\, romaneu atents i atentes a la web de l’IVAJ. \nSi teniu de 18 a 30 anys i un Carnet Jove en vigor\, podreu inscriure-vos en línia a partir del 7 de novembre (a les 9.00 h.) fins al 24 de novembre de 2023 (o fins a esgotar les places).
URL:https://xabiajove.com/event/camps-de-voluntariat/
ATTACH;FMTTYPE=image/png:https://xabiajove.com/cont/uploads/2023/11/camps-voluntariat-2022-carrusel.png
END:VEVENT
BEGIN:VEVENT
DTSTART;VALUE=DATE:20231107
DTEND;VALUE=DATE:20231125
DTSTAMP:20260423T231441
CREATED:20231117T090051Z
LAST-MODIFIED:20231130T111843Z
UID:683-1699329600-1700798399@xabiajove.com
SUMMARY:Abierto el plazo de inscripción en Programas de Movilidad Global de la Universidad de Alicante
DESCRIPTION:¿Quieres realizar tus estudios en Universidades No Europeas? \nSi estás estudiando un Grado en la Universidad de Alicante y te gustaría realizar tus estudios en Universidades no Europeas\, te dejamos un enlace con toda la info para que puedas realizar tu solicitud. Tienes hasta el 23 de noviembre para poder solicitar en la primera convocatoría. \nPincha en el siguiente enlace para más info: https://sri.ua.es/es/movilidad/global.html
URL:https://xabiajove.com/event/abierto-el-plazo-de-inscripcion-en-programas-de-movilidad-global-de-la-universidad-de-alicante/
ATTACH;FMTTYPE=image/jpeg:https://xabiajove.com/cont/uploads/2023/11/ben-white-gekmstkfz6w-unsplash-scaled.jpg
END:VEVENT
END:VCALENDAR