


BEGIN:VCALENDAR
VERSION:2.0
PRODID:-//#Xàbiajove - ECPv6.0.3.1//NONSGML v1.0//EN
CALSCALE:GREGORIAN
METHOD:PUBLISH
X-WR-CALNAME:#Xàbiajove
X-ORIGINAL-URL:https://xabiajove.com
X-WR-CALDESC:Esdeveniments per #Xàbiajove
REFRESH-INTERVAL;VALUE=DURATION:PT1H
X-Robots-Tag:noindex
X-PUBLISHED-TTL:PT1H
BEGIN:VTIMEZONE
TZID:Europe/Madrid
BEGIN:DAYLIGHT
TZOFFSETFROM:+0100
TZOFFSETTO:+0200
TZNAME:CEST
DTSTART:20230326T010000
END:DAYLIGHT
BEGIN:STANDARD
TZOFFSETFROM:+0200
TZOFFSETTO:+0100
TZNAME:CET
DTSTART:20231029T010000
END:STANDARD
END:VTIMEZONE
BEGIN:VEVENT
DTSTART;VALUE=DATE:20231208
DTEND;VALUE=DATE:20231212
DTSTAMP:20260423T232216
CREATED:20231204T103918Z
LAST-MODIFIED:20231204T104110Z
UID:770-1702008000-1702267199@xabiajove.com
SUMMARY:Dream Hack llega de nuevo a Valencia
DESCRIPTION:¡El Dream Hack llega de nuevo a Valencia con jugadores y jugadoras de todo el mundo!\nEste año vuelve a Valencia el festival Dream Hack del 8 al 10 de diciembre\, y con tu carné joven europeo podrás disfrutar de un 10% de descuento en la adquisición de la entrada. Apúntate a estos tres días en los que podrás conocer y competir con tus ídolos del sector gaming\, prueba las últimas novedades de los e-sports y conviértete en el campeón o campeona del Fortnite\, League of Legends o Counter Strike. Habrá una zona habilitada para jugar a todos ellos completamente gratis y con la posibilidad de ganar premios exclusivos. ¡No dejes pasar esta oportunidad que te trae el carné joven europeo!. \n 
URL:https://xabiajove.com/event/dream-hack-llega-de-nuevo-a-valencia/
ATTACH;FMTTYPE=image/png:https://xabiajove.com/cont/uploads/2023/12/planes_de_invierno_del_carne_joven.png
END:VEVENT
END:VCALENDAR