


BEGIN:VCALENDAR
VERSION:2.0
PRODID:-//#Xàbiajove - ECPv6.0.3.1//NONSGML v1.0//EN
CALSCALE:GREGORIAN
METHOD:PUBLISH
X-WR-CALNAME:#Xàbiajove
X-ORIGINAL-URL:https://xabiajove.com
X-WR-CALDESC:Esdeveniments per #Xàbiajove
REFRESH-INTERVAL;VALUE=DURATION:PT1H
X-Robots-Tag:noindex
X-PUBLISHED-TTL:PT1H
BEGIN:VTIMEZONE
TZID:Europe/Madrid
BEGIN:DAYLIGHT
TZOFFSETFROM:+0100
TZOFFSETTO:+0200
TZNAME:CEST
DTSTART:20230326T010000
END:DAYLIGHT
BEGIN:STANDARD
TZOFFSETFROM:+0200
TZOFFSETTO:+0100
TZNAME:CET
DTSTART:20231029T010000
END:STANDARD
END:VTIMEZONE
BEGIN:VEVENT
DTSTART;TZID=Europe/Madrid:20231211T180000
DTEND;TZID=Europe/Madrid:20231211T200000
DTSTAMP:20260423T185014
CREATED:20231129T130230Z
LAST-MODIFIED:20231130T113243Z
UID:747-1702317600-1702324800@xabiajove.com
SUMMARY:Play Jove\, Directe d’Instagram
DESCRIPTION:Dilluns 11 de desembre: Directe d’Instagram: Entrevista en directe als presidents de la Quintà 2024\, Julia Roselló i Jaime Valverde\, a partir de les 18:00 h
URL:https://xabiajove.com/event/play-jove-directe-dinstagram/
END:VEVENT
END:VCALENDAR