


BEGIN:VCALENDAR
VERSION:2.0
PRODID:-//#Xàbiajove - ECPv6.0.3.1//NONSGML v1.0//EN
CALSCALE:GREGORIAN
METHOD:PUBLISH
X-WR-CALNAME:#Xàbiajove
X-ORIGINAL-URL:https://xabiajove.com
X-WR-CALDESC:Esdeveniments per #Xàbiajove
REFRESH-INTERVAL;VALUE=DURATION:PT1H
X-Robots-Tag:noindex
X-PUBLISHED-TTL:PT1H
BEGIN:VTIMEZONE
TZID:Europe/Madrid
BEGIN:DAYLIGHT
TZOFFSETFROM:+0100
TZOFFSETTO:+0200
TZNAME:CEST
DTSTART:20230326T010000
END:DAYLIGHT
BEGIN:STANDARD
TZOFFSETFROM:+0200
TZOFFSETTO:+0100
TZNAME:CET
DTSTART:20231029T010000
END:STANDARD
END:VTIMEZONE
BEGIN:VEVENT
DTSTART;TZID=Europe/Madrid:20231214T190000
DTEND;TZID=Europe/Madrid:20231214T203000
DTSTAMP:20260424T002846
CREATED:20231213T090434Z
LAST-MODIFIED:20231213T090817Z
UID:776-1702580400-1702585800@xabiajove.com
SUMMARY:XàbiaTIC Conferencia "El bienestar digital"
DESCRIPTION:La segunda XàbiaTIC será «El bienestar digital» dentro del ciclo dirigido a los jóvenes y padres «Para\, piensa\, conéctate»\, será el próximo 14 de diciembre también a las 19:00. \nPara participar en las dos conferencias puedes inscribirte aquí \nhttps://forms.gle/HdTb1akbbcmh4mLd9 \nOs recordamos a los que aún no lo han visto que para acceder a los vídeos y material de cada conferencia\, debéis apuntaros al canal de whatsapp. Será SOLO al canal de Whatsapp donde lo enviaremos\, por lo que si aun no estas apuntado/a\, click aquí para poderlos obtener. \nhttps://chat.whatsapp.com/D6Jb9NWvJ6o3z8T4SeqKY0
URL:https://xabiajove.com/event/xabiatic-conferencia-el-bienestar-digital/
ATTACH;FMTTYPE=image/png:https://xabiajove.com/cont/uploads/2023/12/sin-titulo.png
END:VEVENT
END:VCALENDAR