


BEGIN:VCALENDAR
VERSION:2.0
PRODID:-//#Xàbiajove - ECPv6.0.3.1//NONSGML v1.0//EN
CALSCALE:GREGORIAN
METHOD:PUBLISH
X-WR-CALNAME:#Xàbiajove
X-ORIGINAL-URL:https://xabiajove.com
X-WR-CALDESC:Esdeveniments per #Xàbiajove
REFRESH-INTERVAL;VALUE=DURATION:PT1H
X-Robots-Tag:noindex
X-PUBLISHED-TTL:PT1H
BEGIN:VTIMEZONE
TZID:Europe/Madrid
BEGIN:DAYLIGHT
TZOFFSETFROM:+0100
TZOFFSETTO:+0200
TZNAME:CEST
DTSTART:20230326T010000
END:DAYLIGHT
BEGIN:STANDARD
TZOFFSETFROM:+0200
TZOFFSETTO:+0100
TZNAME:CET
DTSTART:20231029T010000
END:STANDARD
END:VTIMEZONE
BEGIN:VEVENT
DTSTART;TZID=Europe/Madrid:20231215T173000
DTEND;TZID=Europe/Madrid:20231215T190000
DTSTAMP:20260423T160007
CREATED:20231129T130511Z
LAST-MODIFIED:20231130T084807Z
UID:752-1702661400-1702666800@xabiajove.com
SUMMARY:Play Jove\, Taller d'automaquillatge
DESCRIPTION:Divendres 15 de desembre: Taller d’automaquillatge\, a partir de les 17:30 h (Per a joves de 12 a 18 anys)
URL:https://xabiajove.com/event/play-jove-taller-dautomaquillatge/
END:VEVENT
END:VCALENDAR