


BEGIN:VCALENDAR
VERSION:2.0
PRODID:-//#Xàbiajove - ECPv6.0.3.1//NONSGML v1.0//EN
CALSCALE:GREGORIAN
METHOD:PUBLISH
X-ORIGINAL-URL:https://xabiajove.com
X-WR-CALDESC:Esdeveniments per #Xàbiajove
REFRESH-INTERVAL;VALUE=DURATION:PT1H
X-Robots-Tag:noindex
X-PUBLISHED-TTL:PT1H
BEGIN:VTIMEZONE
TZID:Europe/Madrid
BEGIN:DAYLIGHT
TZOFFSETFROM:+0100
TZOFFSETTO:+0200
TZNAME:CEST
DTSTART:20240331T010000
END:DAYLIGHT
BEGIN:STANDARD
TZOFFSETFROM:+0200
TZOFFSETTO:+0100
TZNAME:CET
DTSTART:20241027T010000
END:STANDARD
END:VTIMEZONE
BEGIN:VEVENT
DTSTART;TZID=Europe/Madrid:20240202T180000
DTEND;TZID=Europe/Madrid:20240202T200000
DTSTAMP:20260423T184430
CREATED:20240129T081559Z
LAST-MODIFIED:20240410T070252Z
UID:842-1706896800-1706904000@xabiajove.com
SUMMARY:PlayJove: Taller de Pentinats per a Carnestoltes
DESCRIPTION:Dimecres 2 de febrer: Taller de Pentinats per a Carnestoltes\, a partir de les 18:00 h
URL:https://xabiajove.com/event/play-jove-taller-de-pentinats-per-a-carnestoltes/
ATTACH;FMTTYPE=image/png:https://xabiajove.com/cont/uploads/2024/01/divendres-2-de-febrer.png
END:VEVENT
END:VCALENDAR