


BEGIN:VCALENDAR
VERSION:2.0
PRODID:-//#Xàbiajove - ECPv6.0.3.1//NONSGML v1.0//EN
CALSCALE:GREGORIAN
METHOD:PUBLISH
X-ORIGINAL-URL:https://xabiajove.com
X-WR-CALDESC:Esdeveniments per #Xàbiajove
REFRESH-INTERVAL;VALUE=DURATION:PT1H
X-Robots-Tag:noindex
X-PUBLISHED-TTL:PT1H
BEGIN:VTIMEZONE
TZID:Europe/Madrid
BEGIN:DAYLIGHT
TZOFFSETFROM:+0100
TZOFFSETTO:+0200
TZNAME:CEST
DTSTART:20240331T010000
END:DAYLIGHT
BEGIN:STANDARD
TZOFFSETFROM:+0200
TZOFFSETTO:+0100
TZNAME:CET
DTSTART:20241027T010000
END:STANDARD
END:VTIMEZONE
BEGIN:VEVENT
DTSTART;TZID=Europe/Madrid:20240216T180000
DTEND;TZID=Europe/Madrid:20240216T200000
DTSTAMP:20260423T125147
CREATED:20240129T082147Z
LAST-MODIFIED:20240410T070219Z
UID:848-1708106400-1708113600@xabiajove.com
SUMMARY:PlayJove: Torneig Futbol 4x4
DESCRIPTION:Dimecres 16 de febrer: Torneig Futbol 4×4\, a partir de les 18:00 h
URL:https://xabiajove.com/event/play-jove-torneig-futbol-4x4/
ATTACH;FMTTYPE=image/png:https://xabiajove.com/cont/uploads/2024/01/divendres-16-febrer-8.png
END:VEVENT
END:VCALENDAR