


BEGIN:VCALENDAR
VERSION:2.0
PRODID:-//#Xàbiajove - ECPv6.0.3.1//NONSGML v1.0//EN
CALSCALE:GREGORIAN
METHOD:PUBLISH
X-WR-CALNAME:#Xàbiajove
X-ORIGINAL-URL:https://xabiajove.com
X-WR-CALDESC:Esdeveniments per #Xàbiajove
REFRESH-INTERVAL;VALUE=DURATION:PT1H
X-Robots-Tag:noindex
X-PUBLISHED-TTL:PT1H
BEGIN:VTIMEZONE
TZID:Europe/Madrid
BEGIN:DAYLIGHT
TZOFFSETFROM:+0100
TZOFFSETTO:+0200
TZNAME:CEST
DTSTART:20240331T010000
END:DAYLIGHT
BEGIN:STANDARD
TZOFFSETFROM:+0200
TZOFFSETTO:+0100
TZNAME:CET
DTSTART:20241027T010000
END:STANDARD
END:VTIMEZONE
BEGIN:VEVENT
DTSTART;TZID=Europe/Madrid:20240308T180000
DTEND;TZID=Europe/Madrid:20240308T200000
DTSTAMP:20260423T130919
CREATED:20240220T113020Z
LAST-MODIFIED:20240410T070129Z
UID:919-1709920800-1709928000@xabiajove.com
SUMMARY:PlayJove: Torneig de Futbolí
DESCRIPTION:Divendres 8 de març: Torneig de Futbolí\, a partir de de les 18:00 h
URL:https://xabiajove.com/event/play-jove-torneig-de-futboli/
ATTACH;FMTTYPE=image/png:https://xabiajove.com/cont/uploads/2024/02/futboli-8-de-marc.png
END:VEVENT
BEGIN:VEVENT
DTSTART;TZID=Europe/Madrid:20240311T190000
DTEND;TZID=Europe/Madrid:20240311T203000
DTSTAMP:20260423T130919
CREATED:20240307T132640Z
LAST-MODIFIED:20240307T132640Z
UID:1058-1710183600-1710189000@xabiajove.com
SUMMARY:Xarrades d'orientació educativa familiar "Naveguem junts cap al futur"
DESCRIPTION:Dilluns 11 de març a les 19h.  dirigit a famílies amb alumnes en 4t d’ESO
URL:https://xabiajove.com/event/xarrades-dorientacio-educativa-familiar-naveguem-junts-cap-al-futur/
ATTACH;FMTTYPE=image/jpeg:https://xabiajove.com/cont/uploads/2024/03/cartel-2024-xabia-0188-scaled.jpg
END:VEVENT
BEGIN:VEVENT
DTSTART;TZID=Europe/Madrid:20240312T190000
DTEND;TZID=Europe/Madrid:20240312T203000
DTSTAMP:20260423T130919
CREATED:20240307T133217Z
LAST-MODIFIED:20240307T134031Z
UID:1062-1710270000-1710275400@xabiajove.com
SUMMARY:Xarrades d’orientació educativa familiar "Construïm el camí cap a la Universitat"
DESCRIPTION:Dimarts 12 de març a les 19h.  dirigit a famílies amb alumnes en Batxillerat
URL:https://xabiajove.com/event/xarrades-dorientacio-educativa-familiar-construim-el-cami-cal-a-la-universitat/
ATTACH;FMTTYPE=image/jpeg:https://xabiajove.com/cont/uploads/2024/03/cartel-2024-xabia-0188-scaled.jpg
END:VEVENT
BEGIN:VEVENT
DTSTART;TZID=Europe/Madrid:20240313T190000
DTEND;TZID=Europe/Madrid:20240313T203000
DTSTAMP:20260423T130919
CREATED:20240307T133452Z
LAST-MODIFIED:20240307T133452Z
UID:1064-1710356400-1710361800@xabiajove.com
SUMMARY:Xarrades d’orientació educativa familiar "Recursos per accedir al món laboral"
DESCRIPTION:Dimecres 13 de març a les 19h. dirigit a famílies amb alumnes que accedeixen al mercat laboral.
URL:https://xabiajove.com/event/xarrades-dorientacio-educativa-familiar-recursos-per-accedir-al-mon-laboral/
ATTACH;FMTTYPE=image/jpeg:https://xabiajove.com/cont/uploads/2024/03/cartel-2024-xabia-0188-scaled.jpg
END:VEVENT
BEGIN:VEVENT
DTSTART;TZID=Europe/Madrid:20240315T180000
DTEND;TZID=Europe/Madrid:20240315T184500
DTSTAMP:20260423T130919
CREATED:20240314T122908Z
LAST-MODIFIED:20240314T123059Z
UID:1111-1710525600-1710528300@xabiajove.com
SUMMARY:I Premi Xàbia Emprén Joves
DESCRIPTION:Presentació i lliurament de  premis dels 3 projectes finalistes del «I Premis Xàbia Empren Joves».
URL:https://xabiajove.com/event/i-premi-xabia-empren-joves/
END:VEVENT
BEGIN:VEVENT
DTSTART;TZID=Europe/Madrid:20240315T180000
DTEND;TZID=Europe/Madrid:20240315T200000
DTSTAMP:20260423T130919
CREATED:20240220T113609Z
LAST-MODIFIED:20240410T070109Z
UID:922-1710525600-1710532800@xabiajove.com
SUMMARY:PlayJove: Torneig de FIFA FC 24
DESCRIPTION:Divendres 15 de març: Torneig de Fifa FC 24\, a partir de les 18:00 h
URL:https://xabiajove.com/event/play-jove-torneig-de-fifa-fc-24/
ATTACH;FMTTYPE=image/png:https://xabiajove.com/cont/uploads/2024/02/fifa-15-de-marc.png
END:VEVENT
BEGIN:VEVENT
DTSTART;TZID=Europe/Madrid:20240316T180000
DTEND;TZID=Europe/Madrid:20240316T200000
DTSTAMP:20260423T130919
CREATED:20240220T113747Z
LAST-MODIFIED:20240410T070043Z
UID:925-1710612000-1710619200@xabiajove.com
SUMMARY:PlayJove: Escape Room
DESCRIPTION:Dissabte 16 de març: Vesprada de Escape Room\, a partir de les 18:00 h
URL:https://xabiajove.com/event/play-jove-escape-room/
ATTACH;FMTTYPE=image/png:https://xabiajove.com/cont/uploads/2024/02/escape-room-16-marc.png
END:VEVENT
BEGIN:VEVENT
DTSTART;VALUE=DATE:20240320
DTEND;VALUE=DATE:20240330
DTSTAMP:20260423T130919
CREATED:20240222T085121Z
LAST-MODIFIED:20240222T085121Z
UID:989-1710907200-1711684799@xabiajove.com
SUMMARY:Inscripcions a les proves d'accés als cicles formatius de grau mitjà i superior de formació professional
DESCRIPTION:Les inscripcions estaran obertes del 20 al 28 de març\,  \nPoden sol·licitar-ho les persones que desitgen cursar ensenyaments de grau mitjà o superior i hagen de fer-ho mitjançant superació de prova. \nMés Info:https://ceice.gva.es/va/web/formacion-profesional/pruebas-de-acceso-a-ciclos-formativos
URL:https://xabiajove.com/event/inscripcions-a-les-proves-dacces-als-cicles-formatius-de-grau-mitja-i-superior-de-formacio-professional/
END:VEVENT
BEGIN:VEVENT
DTSTART;TZID=Europe/Madrid:20240322T180000
DTEND;TZID=Europe/Madrid:20240322T200000
DTSTAMP:20260423T130919
CREATED:20240220T113929Z
LAST-MODIFIED:20240410T070025Z
UID:928-1711130400-1711137600@xabiajove.com
SUMMARY:PlayJove: Personalitza la teua Samarreta i Borsa
DESCRIPTION:Divendres 22 de març: Personalitza la teua Samarreta i Borsa\, a partir de les 18:00 h
URL:https://xabiajove.com/event/play-jove-personalitza-la-teua-samarreta-i-borsa/
ATTACH;FMTTYPE=image/png:https://xabiajove.com/cont/uploads/2024/02/samarretes-22-marc.png
END:VEVENT
BEGIN:VEVENT
DTSTART;TZID=Europe/Madrid:20240403T180000
DTEND;TZID=Europe/Madrid:20240403T200000
DTSTAMP:20260423T130919
CREATED:20240325T132947Z
LAST-MODIFIED:20240410T070011Z
UID:1118-1712167200-1712174400@xabiajove.com
SUMMARY:PlayJove: Futbol 4x4
DESCRIPTION:Dimecres 3 d’abril: Torneig de Futbol 4×4\, a partir de les 18:00 h
URL:https://xabiajove.com/event/play-jove-torneig-futbol-4x4-2/
ATTACH;FMTTYPE=image/png:https://xabiajove.com/cont/uploads/2024/03/16.png
END:VEVENT
BEGIN:VEVENT
DTSTART;TZID=Europe/Madrid:20240404T180000
DTEND;TZID=Europe/Madrid:20240404T200000
DTSTAMP:20260423T130919
CREATED:20240325T134437Z
LAST-MODIFIED:20240410T065955Z
UID:1127-1712253600-1712260800@xabiajove.com
SUMMARY:PlayJove: Taller de Manicura
DESCRIPTION:Dijous 4 d’abril: Taller de Manicura\, a partir de les 18:00 h
URL:https://xabiajove.com/event/play-jove-taller-de-manicura/
ATTACH;FMTTYPE=image/png:https://xabiajove.com/cont/uploads/2024/03/17.png
END:VEVENT
BEGIN:VEVENT
DTSTART;TZID=Europe/Madrid:20240405T180000
DTEND;TZID=Europe/Madrid:20240405T200000
DTSTAMP:20260423T130919
CREATED:20240325T134633Z
LAST-MODIFIED:20240410T065934Z
UID:1130-1712340000-1712347200@xabiajove.com
SUMMARY:PlayJove: Multiaventura Urbana
DESCRIPTION:Divendres 5 d’abril: Multiaventura Urbana\, Rappel i Escalada\, a partir de les 18:00 h
URL:https://xabiajove.com/event/play-jove-multiaventura-urbana/
ATTACH;FMTTYPE=image/png:https://xabiajove.com/cont/uploads/2024/03/18.png
END:VEVENT
BEGIN:VEVENT
DTSTART;TZID=Europe/Madrid:20240412T180000
DTEND;TZID=Europe/Madrid:20240412T200000
DTSTAMP:20260423T130919
CREATED:20240326T101457Z
LAST-MODIFIED:20240410T065921Z
UID:1135-1712944800-1712952000@xabiajove.com
SUMMARY:PlayJove: Torneig de Billar
DESCRIPTION:Divendres 12 d’abril: Torneig de Billar\, a partir de les 18:00 h
URL:https://xabiajove.com/event/play-jove-torneig-de-billar/
ATTACH;FMTTYPE=image/png:https://xabiajove.com/cont/uploads/2024/03/19.png
END:VEVENT
BEGIN:VEVENT
DTSTART;TZID=Europe/Madrid:20240412T180000
DTEND;TZID=Europe/Madrid:20240412T200000
DTSTAMP:20260423T130919
CREATED:20240326T101719Z
LAST-MODIFIED:20240410T065908Z
UID:1138-1712944800-1712952000@xabiajove.com
SUMMARY:PlayJove: Taller de Trenes
DESCRIPTION:Divendres 12 d’abril: Taller de trenes\, a partir de les 18:00 h
URL:https://xabiajove.com/event/play-jove-taller-de-trenes/
ATTACH;FMTTYPE=image/png:https://xabiajove.com/cont/uploads/2024/03/20.png
END:VEVENT
BEGIN:VEVENT
DTSTART;TZID=Europe/Madrid:20240415T190000
DTEND;TZID=Europe/Madrid:20240415T200000
DTSTAMP:20260423T130919
CREATED:20240410T081521Z
LAST-MODIFIED:20240410T084333Z
UID:1192-1713207600-1713211200@xabiajove.com
SUMMARY:PlayJove\, 15 Abril Directe d'Instagram: Orientació Educativa
DESCRIPTION:«Naveguem junts cap al futur»: Què fem després de l’ESO?
URL:https://xabiajove.com/event/playjove-15-i-16-abril-directes-dinstagram-orientacio-educativa/
ATTACH;FMTTYPE=image/jpeg:https://xabiajove.com/cont/uploads/2024/04/orientacio-educativa-1.jpg
END:VEVENT
BEGIN:VEVENT
DTSTART;TZID=Europe/Madrid:20240416T190000
DTEND;TZID=Europe/Madrid:20240416T200000
DTSTAMP:20260423T130919
CREATED:20240410T084317Z
LAST-MODIFIED:20240410T084317Z
UID:1200-1713294000-1713297600@xabiajove.com
SUMMARY:PlayJove\, 16 Abril Directe d'Instagram: Orientació Educativa
DESCRIPTION:«Construïm el camí cap a la Universitat»
URL:https://xabiajove.com/event/playjove-16-abril-directe-dinstagram-orientacio-educativa/
ATTACH;FMTTYPE=image/jpeg:https://xabiajove.com/cont/uploads/2024/04/orientacio-educativa-1.jpg
END:VEVENT
BEGIN:VEVENT
DTSTART;TZID=Europe/Madrid:20240418T180000
DTEND;TZID=Europe/Madrid:20240418T200000
DTSTAMP:20260423T130919
CREATED:20240326T101915Z
LAST-MODIFIED:20240410T065852Z
UID:1141-1713463200-1713470400@xabiajove.com
SUMMARY:PlayJove: Vesprada de Bombetes
DESCRIPTION:Dijous 18 d’abril: Vesprada de Bombetes\, a partir de les 18:00 h
URL:https://xabiajove.com/event/play-jove-vesprada-de-bombetes-2/
ATTACH;FMTTYPE=image/png:https://xabiajove.com/cont/uploads/2024/03/21.png
END:VEVENT
BEGIN:VEVENT
DTSTART;TZID=Europe/Madrid:20240419T180000
DTEND;TZID=Europe/Madrid:20240419T200000
DTSTAMP:20260423T130919
CREATED:20240326T102045Z
LAST-MODIFIED:20240410T065833Z
UID:1144-1713549600-1713556800@xabiajove.com
SUMMARY:PlayJove: Taller de Fotografia Ràpida
DESCRIPTION:Divendres 19 d’abril: Taller de Fotografia Ràpida\, a partir de les 18:00 h
URL:https://xabiajove.com/event/play-jove-taller-de-fotografia-rapida/
ATTACH;FMTTYPE=image/png:https://xabiajove.com/cont/uploads/2024/03/22.png
END:VEVENT
BEGIN:VEVENT
DTSTART;TZID=Europe/Madrid:20240510T180000
DTEND;TZID=Europe/Madrid:20240510T200000
DTSTAMP:20260423T130919
CREATED:20240424T081743Z
LAST-MODIFIED:20240424T081743Z
UID:1218-1715364000-1715371200@xabiajove.com
SUMMARY:PlayJove: Crea els teus Accessoris de Resina
DESCRIPTION:Divendres 10 de maig: Crea els teus Accessoris de Resina\, a partir de les 18:00 h
URL:https://xabiajove.com/event/playjove-crea-els-teus-accessoris-de-resina/
ATTACH;FMTTYPE=image/png:https://xabiajove.com/cont/uploads/2024/04/resina-1.png
END:VEVENT
BEGIN:VEVENT
DTSTART;TZID=Europe/Madrid:20240517T180000
DTEND;TZID=Europe/Madrid:20240517T200000
DTSTAMP:20260423T130919
CREATED:20240424T082053Z
LAST-MODIFIED:20240424T082053Z
UID:1221-1715968800-1715976000@xabiajove.com
SUMMARY:PlayJove: Taller d'Impressió 3D
DESCRIPTION:Divendres 17 de maig: Taller d’Impressió 3D\, a partir de les 18:00 h
URL:https://xabiajove.com/event/playjove-taller-dimpressio-3d/
ATTACH;FMTTYPE=image/png:https://xabiajove.com/cont/uploads/2024/04/impressio-3d-1.png
END:VEVENT
BEGIN:VEVENT
DTSTART;TZID=Europe/Madrid:20240524T180000
DTEND;TZID=Europe/Madrid:20240524T200000
DTSTAMP:20260423T130919
CREATED:20240424T082229Z
LAST-MODIFIED:20240424T084350Z
UID:1224-1716573600-1716580800@xabiajove.com
SUMMARY:PlayJove: Torneig de FIFA FC 24
DESCRIPTION:Divendres 24 de maig: Torneig de FIFA FC 24\, a partir de les 18:00 h
URL:https://xabiajove.com/event/playjove-torneig-de-fifa-fc-24/
ATTACH;FMTTYPE=image/png:https://xabiajove.com/cont/uploads/2024/04/fifa-1.png
END:VEVENT
BEGIN:VEVENT
DTSTART;TZID=Europe/Madrid:20240524T180000
DTEND;TZID=Europe/Madrid:20240524T200000
DTSTAMP:20260423T130919
CREATED:20240424T084310Z
LAST-MODIFIED:20240424T084310Z
UID:1227-1716573600-1716580800@xabiajove.com
SUMMARY:PlayJove: Taller de Ball Urbà
DESCRIPTION:Divendres 24 de maig: Taller de Ball Urbà\, a partir de les 18:00 h
URL:https://xabiajove.com/event/playjove-taller-de-ball-urba/
ATTACH;FMTTYPE=image/png:https://xabiajove.com/cont/uploads/2024/04/ball-urba.png
END:VEVENT
BEGIN:VEVENT
DTSTART;TZID=Europe/Madrid:20240531T180000
DTEND;TZID=Europe/Madrid:20240531T200000
DTSTAMP:20260423T130919
CREATED:20240424T084833Z
LAST-MODIFIED:20240424T084833Z
UID:1230-1717178400-1717185600@xabiajove.com
SUMMARY:PlayJove: Festa Hello Summer
DESCRIPTION:Divendres 31 de maig: Festa Hello Summer\, amb BalanzBike\, Futbol 3×3 i disseny de samarretes\, a partir de les 18:00 h
URL:https://xabiajove.com/event/playjove-festa-hello-summer/
ATTACH;FMTTYPE=image/png:https://xabiajove.com/cont/uploads/2024/04/festa-hello-summer.png
END:VEVENT
BEGIN:VEVENT
DTSTART;TZID=Europe/Madrid:20240702T220000
DTEND;TZID=Europe/Madrid:20240702T233000
DTSTAMP:20260423T130919
CREATED:20240627T075540Z
LAST-MODIFIED:20240627T080156Z
UID:1310-1719957600-1719963000@xabiajove.com
SUMMARY:CINE VORA LA MAR 2/7
DESCRIPTION:SUPERMARIO BROS \n2 de julio \nEEUU – 92’\, Animación \nTodos los públicos
URL:https://xabiajove.com/event/cine-vora-la-mar/
ATTACH;FMTTYPE=image/jpeg:https://xabiajove.com/cont/uploads/2024/06/mario-bros.jpg
END:VEVENT
BEGIN:VEVENT
DTSTART;TZID=Europe/Madrid:20240709T220000
DTEND;TZID=Europe/Madrid:20240709T233000
DTSTAMP:20260423T130919
CREATED:20240627T102646Z
LAST-MODIFIED:20240627T102646Z
UID:1315-1720562400-1720567800@xabiajove.com
SUMMARY:CINE VORA LA MAR 9/7
DESCRIPTION:VAYA VACACIONES \n9 de julio \nEspaña – 90’\, Comedia\, Familia \nNo recomendada menores de 7 años
URL:https://xabiajove.com/event/cine-vora-la-mar-9-7/
ATTACH;FMTTYPE=image/jpeg:https://xabiajove.com/cont/uploads/2024/06/vaya_vacaciones-cartel-10979.jpg
END:VEVENT
BEGIN:VEVENT
DTSTART;TZID=Europe/Madrid:20240716T220000
DTEND;TZID=Europe/Madrid:20240716T233000
DTSTAMP:20260423T130919
CREATED:20240627T103801Z
LAST-MODIFIED:20240627T103801Z
UID:1318-1721167200-1721172600@xabiajove.com
SUMMARY:CINE VORA LA MAR 16/7
DESCRIPTION:MOMIAS \n16 de julio \nEspaña – 88’\, Animación\, Aventuras \nNo recomendada menores de 6 años
URL:https://xabiajove.com/event/cine-vora-la-mar-16-7/
ATTACH;FMTTYPE=image/jpeg:https://xabiajove.com/cont/uploads/2024/06/momias-cartel-10927.jpg
END:VEVENT
BEGIN:VEVENT
DTSTART;TZID=Europe/Madrid:20240723T220000
DTEND;TZID=Europe/Madrid:20240723T233000
DTSTAMP:20260423T130919
CREATED:20240627T104821Z
LAST-MODIFIED:20240627T104821Z
UID:1321-1721772000-1721777400@xabiajove.com
SUMMARY:CINE VORA LA MAR 23/7
DESCRIPTION:BARBIE \n23 de julio \nEEUU – 114’\, Comedia\, Fantástica \nTodos los públicos
URL:https://xabiajove.com/event/cine-vora-la-mar-23-7/
ATTACH;FMTTYPE=image/jpeg:https://xabiajove.com/cont/uploads/2024/06/barbie-cartel-11222.jpg
END:VEVENT
BEGIN:VEVENT
DTSTART;TZID=Europe/Madrid:20240730T220000
DTEND;TZID=Europe/Madrid:20240730T233000
DTSTAMP:20260423T130919
CREATED:20240627T105053Z
LAST-MODIFIED:20240627T105053Z
UID:1325-1722376800-1722382200@xabiajove.com
SUMMARY:CINE VORA LA MAR 30/7
DESCRIPTION:LA VIDA PADRE \n30 de julio \nEspaña – 87’\, Comedia \nNo recomendado menores de 12 años
URL:https://xabiajove.com/event/cine-vora-la-mar-30-7/
ATTACH;FMTTYPE=image/jpeg:https://xabiajove.com/cont/uploads/2024/06/la_vida_padre-cartel-10487.jpg
END:VEVENT
BEGIN:VEVENT
DTSTART;TZID=Europe/Madrid:20241213T173000
DTEND;TZID=Europe/Madrid:20241213T200000
DTSTAMP:20260423T130919
CREATED:20241120T093001Z
LAST-MODIFIED:20241120T100429Z
UID:1430-1734111000-1734120000@xabiajove.com
SUMMARY:PlayJove: Torneig FC25 i Vesprada de bombetes
DESCRIPTION:Divendres 13 de desembre a les 17\,30h.: Torneig de FC25 i Vesprada de bombetes\, espai PlayJove.
URL:https://xabiajove.com/event/playjove-torneig-fc25-i-vesprada-de-bombetes/
END:VEVENT
BEGIN:VEVENT
DTSTART;TZID=Europe/Madrid:20241220T173000
DTEND;TZID=Europe/Madrid:20241220T200000
DTSTAMP:20260423T130919
CREATED:20241120T093408Z
LAST-MODIFIED:20241120T100339Z
UID:1432-1734715800-1734724800@xabiajove.com
SUMMARY:PlayJove: Festa de Nadal
DESCRIPTION:Divendres 20 de desembre a les 17\,30h.: Festa de nadal amb zona Tik Toker\, música\, berenar\, jocs amb sorpreses\, espai PlayJove
URL:https://xabiajove.com/event/playjove-festa-de-nadal/
END:VEVENT
END:VCALENDAR