


BEGIN:VCALENDAR
VERSION:2.0
PRODID:-//#Xàbiajove - ECPv6.0.3.1//NONSGML v1.0//EN
CALSCALE:GREGORIAN
METHOD:PUBLISH
X-WR-CALNAME:#Xàbiajove
X-ORIGINAL-URL:https://xabiajove.com
X-WR-CALDESC:Esdeveniments per #Xàbiajove
REFRESH-INTERVAL;VALUE=DURATION:PT1H
X-Robots-Tag:noindex
X-PUBLISHED-TTL:PT1H
BEGIN:VTIMEZONE
TZID:Europe/Madrid
BEGIN:DAYLIGHT
TZOFFSETFROM:+0100
TZOFFSETTO:+0200
TZNAME:CEST
DTSTART:20230326T010000
END:DAYLIGHT
BEGIN:STANDARD
TZOFFSETFROM:+0200
TZOFFSETTO:+0100
TZNAME:CET
DTSTART:20231029T010000
END:STANDARD
END:VTIMEZONE
BEGIN:VEVENT
DTSTART;TZID=Europe/Madrid:20231201T103000
DTEND;TZID=Europe/Madrid:20231201T133000
DTSTAMP:20260423T155905
CREATED:20231114T114633Z
LAST-MODIFIED:20231114T114633Z
UID:658-1701426600-1701437400@xabiajove.com
SUMMARY:Feria de Voluntariado Internacional Injuve
DESCRIPTION:Con motivo del Día Internacional de los Voluntarios desde el INJUVE proponen celebrar una fecha tan señalada con la organización de una feria de voluntariado juvenil con el fin de invitar a todos aquellos jóvenes comprometidos a que conozcan las múltiples posibilidades que existen dentro del voluntariado. Habrá un café de bienvenida\, una mesa redonda en la que podrás conocer experiencias de otros voluntarios y charlar animadamente con ellos\, y te obsequiarán con un bonito recuerdo. Además\, contarán con una intérprete en lenguaje de signos. \nFecha de celebración \n1 de diciembre de 2023 \nLugar: INJUVE. Sala de Diálogo. c/ Ortega y Gasset\, 71 Madrid \nHorario: 10:30 a 13:30 h \nSin inscripción previa \n¡Contamos con tu participación y difusión! \nMás info: \nhttps://www.injuve.es/convocatorias/actividades/feria-de-voluntariado-internacional
URL:https://xabiajove.com/event/feria-de-voluntariado-internacional-injuve/
ATTACH;FMTTYPE=image/jpeg:https://xabiajove.com/cont/uploads/2023/11/cartel_formato_post.jpg
END:VEVENT
BEGIN:VEVENT
DTSTART;TZID=Europe/Madrid:20231205T180000
DTEND;TZID=Europe/Madrid:20231205T200000
DTSTAMP:20260423T155905
CREATED:20231129T125817Z
LAST-MODIFIED:20231204T110311Z
UID:743-1701799200-1701806400@xabiajove.com
SUMMARY:Play Jove\, Vesprada de bombes de dacsa
DESCRIPTION:Dimarts 5 de desembre: Vesprada de bombes de dacsa\, a partir de les 18:00 h (Per a joves de 12 a 18 anys)
URL:https://xabiajove.com/event/play-jove-5-de-desembre/
END:VEVENT
BEGIN:VEVENT
DTSTART;VALUE=DATE:20231208
DTEND;VALUE=DATE:20231212
DTSTAMP:20260423T155905
CREATED:20231204T103918Z
LAST-MODIFIED:20231204T104110Z
UID:770-1702008000-1702267199@xabiajove.com
SUMMARY:Dream Hack llega de nuevo a Valencia
DESCRIPTION:¡El Dream Hack llega de nuevo a Valencia con jugadores y jugadoras de todo el mundo!\nEste año vuelve a Valencia el festival Dream Hack del 8 al 10 de diciembre\, y con tu carné joven europeo podrás disfrutar de un 10% de descuento en la adquisición de la entrada. Apúntate a estos tres días en los que podrás conocer y competir con tus ídolos del sector gaming\, prueba las últimas novedades de los e-sports y conviértete en el campeón o campeona del Fortnite\, League of Legends o Counter Strike. Habrá una zona habilitada para jugar a todos ellos completamente gratis y con la posibilidad de ganar premios exclusivos. ¡No dejes pasar esta oportunidad que te trae el carné joven europeo!. \n 
URL:https://xabiajove.com/event/dream-hack-llega-de-nuevo-a-valencia/
ATTACH;FMTTYPE=image/png:https://xabiajove.com/cont/uploads/2023/12/planes_de_invierno_del_carne_joven.png
END:VEVENT
BEGIN:VEVENT
DTSTART;TZID=Europe/Madrid:20231211T180000
DTEND;TZID=Europe/Madrid:20231211T200000
DTSTAMP:20260423T155905
CREATED:20231129T130230Z
LAST-MODIFIED:20231130T113243Z
UID:747-1702317600-1702324800@xabiajove.com
SUMMARY:Play Jove\, Directe d’Instagram
DESCRIPTION:Dilluns 11 de desembre: Directe d’Instagram: Entrevista en directe als presidents de la Quintà 2024\, Julia Roselló i Jaime Valverde\, a partir de les 18:00 h
URL:https://xabiajove.com/event/play-jove-directe-dinstagram/
END:VEVENT
BEGIN:VEVENT
DTSTART;TZID=Europe/Madrid:20231213T193000
DTEND;TZID=Europe/Madrid:20231213T203000
DTSTAMP:20260423T155905
CREATED:20231213T090046Z
LAST-MODIFIED:20231213T090621Z
UID:773-1702495800-1702499400@xabiajove.com
SUMMARY:XàbiaTIC Conferencia "¿Qué es eso del Big Data?"
DESCRIPTION:Esta semana\, dentro de la programación del proyecto Beachworking\, hay dos conferencias XàbiaTIC.\nPara esta ocasión el próximo 13 de diciembre se hablará de «¿Qué es eso del Big Data?» y se realizará en formato online a partir de las 19:00. \nPara participar en la conferencia puedes inscribirte aquí \nhttps://forms.gle/HdTb1akbbcmh4mLd9 \nOs recordamos a los que aún no lo han visto que para acceder a los vídeos y material de cada conferencia\, debéis apuntaros al canal de whatsapp. Será SOLO al canal de Whatsapp donde lo enviaremos\, por lo que si aun no estas apuntado/a\, click aquí para poderlos obtener. \nhttps://chat.whatsapp.com/D6Jb9NWvJ6o3z8T4SeqKY0
URL:https://xabiajove.com/event/xabiatic-conferencia-que-es-eso-del-big-data/
ATTACH;FMTTYPE=image/png:https://xabiajove.com/cont/uploads/2023/12/big-data.png
END:VEVENT
BEGIN:VEVENT
DTSTART;TZID=Europe/Madrid:20231214T190000
DTEND;TZID=Europe/Madrid:20231214T203000
DTSTAMP:20260423T155905
CREATED:20231213T090434Z
LAST-MODIFIED:20231213T090817Z
UID:776-1702580400-1702585800@xabiajove.com
SUMMARY:XàbiaTIC Conferencia "El bienestar digital"
DESCRIPTION:La segunda XàbiaTIC será «El bienestar digital» dentro del ciclo dirigido a los jóvenes y padres «Para\, piensa\, conéctate»\, será el próximo 14 de diciembre también a las 19:00. \nPara participar en las dos conferencias puedes inscribirte aquí \nhttps://forms.gle/HdTb1akbbcmh4mLd9 \nOs recordamos a los que aún no lo han visto que para acceder a los vídeos y material de cada conferencia\, debéis apuntaros al canal de whatsapp. Será SOLO al canal de Whatsapp donde lo enviaremos\, por lo que si aun no estas apuntado/a\, click aquí para poderlos obtener. \nhttps://chat.whatsapp.com/D6Jb9NWvJ6o3z8T4SeqKY0
URL:https://xabiajove.com/event/xabiatic-conferencia-el-bienestar-digital/
ATTACH;FMTTYPE=image/png:https://xabiajove.com/cont/uploads/2023/12/sin-titulo.png
END:VEVENT
BEGIN:VEVENT
DTSTART;TZID=Europe/Madrid:20231215T173000
DTEND;TZID=Europe/Madrid:20231215T190000
DTSTAMP:20260423T155905
CREATED:20231129T130511Z
LAST-MODIFIED:20231130T084807Z
UID:752-1702661400-1702666800@xabiajove.com
SUMMARY:Play Jove\, Taller d'automaquillatge
DESCRIPTION:Divendres 15 de desembre: Taller d’automaquillatge\, a partir de les 17:30 h (Per a joves de 12 a 18 anys)
URL:https://xabiajove.com/event/play-jove-taller-dautomaquillatge/
END:VEVENT
BEGIN:VEVENT
DTSTART;TZID=Europe/Madrid:20231221T180000
DTEND;TZID=Europe/Madrid:20231221T200000
DTSTAMP:20260423T155905
CREATED:20231129T130639Z
LAST-MODIFIED:20231130T113201Z
UID:754-1703181600-1703188800@xabiajove.com
SUMMARY:Play Jove\, Torneig de Ping-pong
DESCRIPTION:Dijous 21 de desembre: Torneig de Ping-pong\, a partir de les 18:00 h (Per a joves de 12 a 18 anys)
URL:https://xabiajove.com/event/play-jove-torneig-de-ping-pong/
END:VEVENT
BEGIN:VEVENT
DTSTART;TZID=Europe/Madrid:20231222T183000
DTEND;TZID=Europe/Madrid:20231222T203000
DTSTAMP:20260423T155905
CREATED:20231129T130748Z
LAST-MODIFIED:20231130T113138Z
UID:756-1703269800-1703277000@xabiajove.com
SUMMARY:Play Jove\, DISCOPLAY\, “The best music of the world”
DESCRIPTION:Divendres 22 de desembre: DISCOPLAY\, “The best music of the world”. Música\, animació\, sorpreses i moltes ganes de passar-ho bé. Vine a gaudir de la millor música! De 18:30 a 20:30 h (Per a joves de 12 a 18 anys)
URL:https://xabiajove.com/event/play-jove-discoplay-the-best-music-of-the-world/
END:VEVENT
BEGIN:VEVENT
DTSTART;TZID=Europe/Madrid:20231229T180000
DTEND;TZID=Europe/Madrid:20231229T200000
DTSTAMP:20260423T155905
CREATED:20231129T130857Z
LAST-MODIFIED:20231130T113110Z
UID:758-1703872800-1703880000@xabiajove.com
SUMMARY:Play Jove\, Torneig FC 24
DESCRIPTION:Divendres 29 de desembre: Torneig FC 24\, a partir de les 18:00 h (Per a joves de 12 a 18 anys)
URL:https://xabiajove.com/event/play-jove-torneig-fc-24/
END:VEVENT
END:VCALENDAR