


BEGIN:VCALENDAR
VERSION:2.0
PRODID:-//#Xàbiajove - ECPv6.0.3.1//NONSGML v1.0//EN
CALSCALE:GREGORIAN
METHOD:PUBLISH
X-WR-CALNAME:#Xàbiajove
X-ORIGINAL-URL:https://xabiajove.com
X-WR-CALDESC:Esdeveniments per #Xàbiajove
REFRESH-INTERVAL;VALUE=DURATION:PT1H
X-Robots-Tag:noindex
X-PUBLISHED-TTL:PT1H
BEGIN:VTIMEZONE
TZID:Europe/Madrid
BEGIN:DAYLIGHT
TZOFFSETFROM:+0100
TZOFFSETTO:+0200
TZNAME:CEST
DTSTART:20240331T010000
END:DAYLIGHT
BEGIN:STANDARD
TZOFFSETFROM:+0200
TZOFFSETTO:+0100
TZNAME:CET
DTSTART:20241027T010000
END:STANDARD
END:VTIMEZONE
BEGIN:VEVENT
DTSTART;TZID=Europe/Madrid:20240103T180000
DTEND;TZID=Europe/Madrid:20240103T200000
DTSTAMP:20260423T112051
CREATED:20231129T131159Z
LAST-MODIFIED:20231130T112836Z
UID:760-1704304800-1704312000@xabiajove.com
SUMMARY:Play Jove\, Laser Tag
DESCRIPTION:Dimecres 3 de gener: Laser Tag\, de 18:00 a 20:00 h (Per a joves de 12 a 18 anys)
URL:https://xabiajove.com/event/play-jove-laser-tag/
END:VEVENT
BEGIN:VEVENT
DTSTART;TZID=Europe/Madrid:20240125T180000
DTEND;TZID=Europe/Madrid:20240125T200000
DTSTAMP:20260423T112051
CREATED:20240118T124259Z
LAST-MODIFIED:20240118T124353Z
UID:831-1706205600-1706212800@xabiajove.com
SUMMARY:Play Jove\, Vesprada de Bombetes
DESCRIPTION:Dijous 25 de gener: Vesprada de Bombetes\, a partir de les 18.00 h \n 
URL:https://xabiajove.com/event/play-jove-vesprada-de-bombetes/
ATTACH;FMTTYPE=image/png:https://xabiajove.com/cont/uploads/2024/01/dijous-25-gener-1.png
END:VEVENT
BEGIN:VEVENT
DTSTART;TZID=Europe/Madrid:20240126T180000
DTEND;TZID=Europe/Madrid:20240126T200000
DTSTAMP:20260423T112051
CREATED:20240118T124819Z
LAST-MODIFIED:20240410T070307Z
UID:835-1706292000-1706299200@xabiajove.com
SUMMARY:PlayJove\, Vesprada de Jocs de Taula
DESCRIPTION:Divendres 26 de gener: Vesprada de Jocs de taula a partir de les 18.00 h
URL:https://xabiajove.com/event/play-jove-vesprada-de-jocs-de-taula/
ATTACH;FMTTYPE=image/png:https://xabiajove.com/cont/uploads/2024/01/divendres-26-gener.png
END:VEVENT
END:VCALENDAR