


BEGIN:VCALENDAR
VERSION:2.0
PRODID:-//#Xàbiajove - ECPv6.0.3.1//NONSGML v1.0//EN
CALSCALE:GREGORIAN
METHOD:PUBLISH
X-WR-CALNAME:#Xàbiajove
X-ORIGINAL-URL:https://xabiajove.com
X-WR-CALDESC:Esdeveniments per #Xàbiajove
REFRESH-INTERVAL;VALUE=DURATION:PT1H
X-Robots-Tag:noindex
X-PUBLISHED-TTL:PT1H
BEGIN:VTIMEZONE
TZID:Europe/Madrid
BEGIN:DAYLIGHT
TZOFFSETFROM:+0100
TZOFFSETTO:+0200
TZNAME:CEST
DTSTART:20240331T010000
END:DAYLIGHT
BEGIN:STANDARD
TZOFFSETFROM:+0200
TZOFFSETTO:+0100
TZNAME:CET
DTSTART:20241027T010000
END:STANDARD
END:VTIMEZONE
BEGIN:VEVENT
DTSTART;TZID=Europe/Madrid:20240202T180000
DTEND;TZID=Europe/Madrid:20240202T200000
DTSTAMP:20260423T125645
CREATED:20240129T081559Z
LAST-MODIFIED:20240410T070252Z
UID:842-1706896800-1706904000@xabiajove.com
SUMMARY:PlayJove: Taller de Pentinats per a Carnestoltes
DESCRIPTION:Dimecres 2 de febrer: Taller de Pentinats per a Carnestoltes\, a partir de les 18:00 h
URL:https://xabiajove.com/event/play-jove-taller-de-pentinats-per-a-carnestoltes/
ATTACH;FMTTYPE=image/png:https://xabiajove.com/cont/uploads/2024/01/divendres-2-de-febrer.png
END:VEVENT
BEGIN:VEVENT
DTSTART;TZID=Europe/Madrid:20240208T190000
DTEND;TZID=Europe/Madrid:20240208T220000
DTSTAMP:20260423T125645
CREATED:20240207T110649Z
LAST-MODIFIED:20240207T110649Z
UID:878-1707418800-1707429600@xabiajove.com
SUMMARY:Curso "Despierta al Spielberg que llevas dentro"
DESCRIPTION:Curso para que desates tu creatividad en la edición y montaje de vídeos a través del móvil.\n«Cine en tu Bolsillo» te invita a descubrir el Spielberg que llevas dentro\, llevando la magia del cine directamente a tu móvil.\n¿Qué Podrás Lograr? \nNo importa si eres un principiante emocionado o un creador experimentado; «Cine en tu Bolsillo» te equipará con las habilidades y la inspiración necesarias para hacer realidad tus sueños cinematográficos. ¡Prepárate para desatar al Spielberg que llevas dentro y comienza tu viaje cinematográfico hoy!\nMuy importante\, las plazas son limitadas por lo que no te quedes sin la tuya. Serán 3 jornadas los días 8\, 14 y 15 de febrero. Apúntate gratuitamente en este enlace https://acortar.link/CXfPnK
URL:https://xabiajove.com/event/curso-despierta-al-spielberg-que-llevas-dentro/
ATTACH;FMTTYPE=image/png:https://xabiajove.com/cont/uploads/2024/02/sin-titulo.png
END:VEVENT
BEGIN:VEVENT
DTSTART;TZID=Europe/Madrid:20240209T180000
DTEND;TZID=Europe/Madrid:20240209T200000
DTSTAMP:20260423T125645
CREATED:20240129T081929Z
LAST-MODIFIED:20240410T070236Z
UID:845-1707501600-1707508800@xabiajove.com
SUMMARY:PlayJove: Taller de Maquillatge per a Carnestoltes
DESCRIPTION:Dimecres 9 de febrer: Taller de Maquillatge per a Carnestoltes\, a partir de les 18:00 h
URL:https://xabiajove.com/event/play-jove-taller-de-maquillatge-per-a-carnestoltes/
ATTACH;FMTTYPE=image/png:https://xabiajove.com/cont/uploads/2024/01/divendres-9-febrer.png
END:VEVENT
BEGIN:VEVENT
DTSTART;TZID=Europe/Madrid:20240214T220000
DTEND;TZID=Europe/Madrid:20240214T220000
DTSTAMP:20260423T125645
CREATED:20240207T111123Z
LAST-MODIFIED:20240207T111123Z
UID:880-1707948000-1707948000@xabiajove.com
SUMMARY:Curso "Despierta al Spielberg que llevas dentro"
DESCRIPTION:Curso para que desates tu creatividad en la edición y montaje de vídeos a través del móvil.\n«Cine en tu Bolsillo» te invita a descubrir el Spielberg que llevas dentro\, llevando la magia del cine directamente a tu móvil.\n¿Qué Podrás Lograr? \nNo importa si eres un principiante emocionado o un creador experimentado; «Cine en tu Bolsillo» te equipará con las habilidades y la inspiración necesarias para hacer realidad tus sueños cinematográficos. ¡Prepárate para desatar al Spielberg que llevas dentro y comienza tu viaje cinematográfico hoy!\nMuy importante\, las plazas son limitadas por lo que no te quedes sin la tuya. Serán 3 jornadas los días 8\, 14 y 15 de febrero. Apúntate gratuitamente en este enlace https://acortar.link/CXfPnK
URL:https://xabiajove.com/event/curso-despierta-al-spielberg-que-llevas-dentro-2/
ATTACH;FMTTYPE=image/png:https://xabiajove.com/cont/uploads/2024/02/sin-titulo.png
END:VEVENT
BEGIN:VEVENT
DTSTART;TZID=Europe/Madrid:20240215T190000
DTEND;TZID=Europe/Madrid:20240215T220000
DTSTAMP:20260423T125645
CREATED:20240207T111401Z
LAST-MODIFIED:20240207T111401Z
UID:882-1708023600-1708034400@xabiajove.com
SUMMARY:Curso "Despierta al Spielberg que llevas dentro"
DESCRIPTION:Curso para que desates tu creatividad en la edición y montaje de vídeos a través del móvil.\n«Cine en tu Bolsillo» te invita a descubrir el Spielberg que llevas dentro\, llevando la magia del cine directamente a tu móvil.\n¿Qué Podrás Lograr? \nNo importa si eres un principiante emocionado o un creador experimentado; «Cine en tu Bolsillo» te equipará con las habilidades y la inspiración necesarias para hacer realidad tus sueños cinematográficos. ¡Prepárate para desatar al Spielberg que llevas dentro y comienza tu viaje cinematográfico hoy!\nMuy importante\, las plazas son limitadas por lo que no te quedes sin la tuya. Serán 3 jornadas los días 8\, 14 y 15 de febrero. Apúntate gratuitamente en este enlace https://acortar.link/CXfPnK
URL:https://xabiajove.com/event/curso-despierta-al-spielberg-que-llevas-dentro-3/
ATTACH;FMTTYPE=image/png:https://xabiajove.com/cont/uploads/2024/02/sin-titulo.png
END:VEVENT
BEGIN:VEVENT
DTSTART;TZID=Europe/Madrid:20240216T180000
DTEND;TZID=Europe/Madrid:20240216T200000
DTSTAMP:20260423T125645
CREATED:20240129T082147Z
LAST-MODIFIED:20240410T070219Z
UID:848-1708106400-1708113600@xabiajove.com
SUMMARY:PlayJove: Torneig Futbol 4x4
DESCRIPTION:Dimecres 16 de febrer: Torneig Futbol 4×4\, a partir de les 18:00 h
URL:https://xabiajove.com/event/play-jove-torneig-futbol-4x4/
ATTACH;FMTTYPE=image/png:https://xabiajove.com/cont/uploads/2024/01/divendres-16-febrer-8.png
END:VEVENT
BEGIN:VEVENT
DTSTART;TZID=Europe/Madrid:20240218T093000
DTEND;TZID=Europe/Madrid:20240218T170000
DTSTAMP:20260423T125645
CREATED:20240214T080349Z
LAST-MODIFIED:20240214T080421Z
UID:893-1708248600-1708275600@xabiajove.com
SUMMARY:Cavanilles Explora\, diumenge 18 de febrer en Jesús Pobre
DESCRIPTION:Saps que encara estàs a temps de participar en l’expedició Cavanilles? Una expedició per visibilitzar els territoris rurals de la Comunitat Valenciana.\nNo t’oblides\, pots inscriure’t fins al 14 de febrer! \nMés info https://www.expediciocavanilles.com/es/caminades-mensuals
URL:https://xabiajove.com/event/cavanilles-explora-diumenge-18-de-febrer-en-jesus-pobre/
ATTACH;FMTTYPE=image/png:https://xabiajove.com/cont/uploads/2024/02/cabanilles.png
END:VEVENT
BEGIN:VEVENT
DTSTART;TZID=Europe/Madrid:20240223T180000
DTEND;TZID=Europe/Madrid:20240223T200000
DTSTAMP:20260423T125645
CREATED:20240129T082340Z
LAST-MODIFIED:20240410T070201Z
UID:851-1708711200-1708718400@xabiajove.com
SUMMARY:PlayJove: Concurs de Fotografia Ràpida
DESCRIPTION:Dimecres 23 de febrer: Concurs de Fotografia Ràpida\, a partir de les 18:00 h
URL:https://xabiajove.com/event/play-jove-concurs-de-fotografia-rapida/
ATTACH;FMTTYPE=image/png:https://xabiajove.com/cont/uploads/2024/01/divendres-23-febrer-9.png
END:VEVENT
END:VCALENDAR