


BEGIN:VCALENDAR
VERSION:2.0
PRODID:-//#Xàbiajove - ECPv6.0.3.1//NONSGML v1.0//EN
CALSCALE:GREGORIAN
METHOD:PUBLISH
X-ORIGINAL-URL:https://xabiajove.com
X-WR-CALDESC:Esdeveniments per #Xàbiajove
REFRESH-INTERVAL;VALUE=DURATION:PT1H
X-Robots-Tag:noindex
X-PUBLISHED-TTL:PT1H
BEGIN:VTIMEZONE
TZID:Europe/Madrid
BEGIN:DAYLIGHT
TZOFFSETFROM:+0100
TZOFFSETTO:+0200
TZNAME:CEST
DTSTART:20240331T010000
END:DAYLIGHT
BEGIN:STANDARD
TZOFFSETFROM:+0200
TZOFFSETTO:+0100
TZNAME:CET
DTSTART:20241027T010000
END:STANDARD
END:VTIMEZONE
BEGIN:VEVENT
DTSTART;TZID=Europe/Madrid:20240403T180000
DTEND;TZID=Europe/Madrid:20240403T200000
DTSTAMP:20260423T070858
CREATED:20240325T132947Z
LAST-MODIFIED:20240410T070011Z
UID:1118-1712167200-1712174400@xabiajove.com
SUMMARY:PlayJove: Futbol 4x4
DESCRIPTION:Dimecres 3 d’abril: Torneig de Futbol 4×4\, a partir de les 18:00 h
URL:https://xabiajove.com/event/play-jove-torneig-futbol-4x4-2/
ATTACH;FMTTYPE=image/png:https://xabiajove.com/cont/uploads/2024/03/16.png
END:VEVENT
BEGIN:VEVENT
DTSTART;TZID=Europe/Madrid:20240404T180000
DTEND;TZID=Europe/Madrid:20240404T200000
DTSTAMP:20260423T070858
CREATED:20240325T134437Z
LAST-MODIFIED:20240410T065955Z
UID:1127-1712253600-1712260800@xabiajove.com
SUMMARY:PlayJove: Taller de Manicura
DESCRIPTION:Dijous 4 d’abril: Taller de Manicura\, a partir de les 18:00 h
URL:https://xabiajove.com/event/play-jove-taller-de-manicura/
ATTACH;FMTTYPE=image/png:https://xabiajove.com/cont/uploads/2024/03/17.png
END:VEVENT
BEGIN:VEVENT
DTSTART;TZID=Europe/Madrid:20240405T180000
DTEND;TZID=Europe/Madrid:20240405T200000
DTSTAMP:20260423T070858
CREATED:20240325T134633Z
LAST-MODIFIED:20240410T065934Z
UID:1130-1712340000-1712347200@xabiajove.com
SUMMARY:PlayJove: Multiaventura Urbana
DESCRIPTION:Divendres 5 d’abril: Multiaventura Urbana\, Rappel i Escalada\, a partir de les 18:00 h
URL:https://xabiajove.com/event/play-jove-multiaventura-urbana/
ATTACH;FMTTYPE=image/png:https://xabiajove.com/cont/uploads/2024/03/18.png
END:VEVENT
BEGIN:VEVENT
DTSTART;TZID=Europe/Madrid:20240412T180000
DTEND;TZID=Europe/Madrid:20240412T200000
DTSTAMP:20260423T070858
CREATED:20240326T101457Z
LAST-MODIFIED:20240410T065921Z
UID:1135-1712944800-1712952000@xabiajove.com
SUMMARY:PlayJove: Torneig de Billar
DESCRIPTION:Divendres 12 d’abril: Torneig de Billar\, a partir de les 18:00 h
URL:https://xabiajove.com/event/play-jove-torneig-de-billar/
ATTACH;FMTTYPE=image/png:https://xabiajove.com/cont/uploads/2024/03/19.png
END:VEVENT
BEGIN:VEVENT
DTSTART;TZID=Europe/Madrid:20240412T180000
DTEND;TZID=Europe/Madrid:20240412T200000
DTSTAMP:20260423T070858
CREATED:20240326T101719Z
LAST-MODIFIED:20240410T065908Z
UID:1138-1712944800-1712952000@xabiajove.com
SUMMARY:PlayJove: Taller de Trenes
DESCRIPTION:Divendres 12 d’abril: Taller de trenes\, a partir de les 18:00 h
URL:https://xabiajove.com/event/play-jove-taller-de-trenes/
ATTACH;FMTTYPE=image/png:https://xabiajove.com/cont/uploads/2024/03/20.png
END:VEVENT
BEGIN:VEVENT
DTSTART;TZID=Europe/Madrid:20240415T190000
DTEND;TZID=Europe/Madrid:20240415T200000
DTSTAMP:20260423T070858
CREATED:20240410T081521Z
LAST-MODIFIED:20240410T084333Z
UID:1192-1713207600-1713211200@xabiajove.com
SUMMARY:PlayJove\, 15 Abril Directe d'Instagram: Orientació Educativa
DESCRIPTION:«Naveguem junts cap al futur»: Què fem després de l’ESO?
URL:https://xabiajove.com/event/playjove-15-i-16-abril-directes-dinstagram-orientacio-educativa/
ATTACH;FMTTYPE=image/jpeg:https://xabiajove.com/cont/uploads/2024/04/orientacio-educativa-1.jpg
END:VEVENT
BEGIN:VEVENT
DTSTART;TZID=Europe/Madrid:20240416T190000
DTEND;TZID=Europe/Madrid:20240416T200000
DTSTAMP:20260423T070858
CREATED:20240410T084317Z
LAST-MODIFIED:20240410T084317Z
UID:1200-1713294000-1713297600@xabiajove.com
SUMMARY:PlayJove\, 16 Abril Directe d'Instagram: Orientació Educativa
DESCRIPTION:«Construïm el camí cap a la Universitat»
URL:https://xabiajove.com/event/playjove-16-abril-directe-dinstagram-orientacio-educativa/
ATTACH;FMTTYPE=image/jpeg:https://xabiajove.com/cont/uploads/2024/04/orientacio-educativa-1.jpg
END:VEVENT
BEGIN:VEVENT
DTSTART;TZID=Europe/Madrid:20240418T180000
DTEND;TZID=Europe/Madrid:20240418T200000
DTSTAMP:20260423T070858
CREATED:20240326T101915Z
LAST-MODIFIED:20240410T065852Z
UID:1141-1713463200-1713470400@xabiajove.com
SUMMARY:PlayJove: Vesprada de Bombetes
DESCRIPTION:Dijous 18 d’abril: Vesprada de Bombetes\, a partir de les 18:00 h
URL:https://xabiajove.com/event/play-jove-vesprada-de-bombetes-2/
ATTACH;FMTTYPE=image/png:https://xabiajove.com/cont/uploads/2024/03/21.png
END:VEVENT
BEGIN:VEVENT
DTSTART;TZID=Europe/Madrid:20240419T180000
DTEND;TZID=Europe/Madrid:20240419T200000
DTSTAMP:20260423T070858
CREATED:20240326T102045Z
LAST-MODIFIED:20240410T065833Z
UID:1144-1713549600-1713556800@xabiajove.com
SUMMARY:PlayJove: Taller de Fotografia Ràpida
DESCRIPTION:Divendres 19 d’abril: Taller de Fotografia Ràpida\, a partir de les 18:00 h
URL:https://xabiajove.com/event/play-jove-taller-de-fotografia-rapida/
ATTACH;FMTTYPE=image/png:https://xabiajove.com/cont/uploads/2024/03/22.png
END:VEVENT
END:VCALENDAR