


BEGIN:VCALENDAR
VERSION:2.0
PRODID:-//#Xàbiajove - ECPv6.0.3.1//NONSGML v1.0//EN
CALSCALE:GREGORIAN
METHOD:PUBLISH
X-WR-CALNAME:#Xàbiajove
X-ORIGINAL-URL:https://xabiajove.com
X-WR-CALDESC:Esdeveniments per #Xàbiajove
REFRESH-INTERVAL;VALUE=DURATION:PT1H
X-Robots-Tag:noindex
X-PUBLISHED-TTL:PT1H
BEGIN:VTIMEZONE
TZID:Europe/Madrid
BEGIN:DAYLIGHT
TZOFFSETFROM:+0100
TZOFFSETTO:+0200
TZNAME:CEST
DTSTART:20240331T010000
END:DAYLIGHT
BEGIN:STANDARD
TZOFFSETFROM:+0200
TZOFFSETTO:+0100
TZNAME:CET
DTSTART:20241027T010000
END:STANDARD
END:VTIMEZONE
BEGIN:VEVENT
DTSTART;TZID=Europe/Madrid:20240510T180000
DTEND;TZID=Europe/Madrid:20240510T200000
DTSTAMP:20260423T054128
CREATED:20240424T081743Z
LAST-MODIFIED:20240424T081743Z
UID:1218-1715364000-1715371200@xabiajove.com
SUMMARY:PlayJove: Crea els teus Accessoris de Resina
DESCRIPTION:Divendres 10 de maig: Crea els teus Accessoris de Resina\, a partir de les 18:00 h
URL:https://xabiajove.com/event/playjove-crea-els-teus-accessoris-de-resina/
ATTACH;FMTTYPE=image/png:https://xabiajove.com/cont/uploads/2024/04/resina-1.png
END:VEVENT
BEGIN:VEVENT
DTSTART;TZID=Europe/Madrid:20240517T180000
DTEND;TZID=Europe/Madrid:20240517T200000
DTSTAMP:20260423T054128
CREATED:20240424T082053Z
LAST-MODIFIED:20240424T082053Z
UID:1221-1715968800-1715976000@xabiajove.com
SUMMARY:PlayJove: Taller d'Impressió 3D
DESCRIPTION:Divendres 17 de maig: Taller d’Impressió 3D\, a partir de les 18:00 h
URL:https://xabiajove.com/event/playjove-taller-dimpressio-3d/
ATTACH;FMTTYPE=image/png:https://xabiajove.com/cont/uploads/2024/04/impressio-3d-1.png
END:VEVENT
BEGIN:VEVENT
DTSTART;TZID=Europe/Madrid:20240524T180000
DTEND;TZID=Europe/Madrid:20240524T200000
DTSTAMP:20260423T054128
CREATED:20240424T082229Z
LAST-MODIFIED:20240424T084350Z
UID:1224-1716573600-1716580800@xabiajove.com
SUMMARY:PlayJove: Torneig de FIFA FC 24
DESCRIPTION:Divendres 24 de maig: Torneig de FIFA FC 24\, a partir de les 18:00 h
URL:https://xabiajove.com/event/playjove-torneig-de-fifa-fc-24/
ATTACH;FMTTYPE=image/png:https://xabiajove.com/cont/uploads/2024/04/fifa-1.png
END:VEVENT
BEGIN:VEVENT
DTSTART;TZID=Europe/Madrid:20240524T180000
DTEND;TZID=Europe/Madrid:20240524T200000
DTSTAMP:20260423T054128
CREATED:20240424T084310Z
LAST-MODIFIED:20240424T084310Z
UID:1227-1716573600-1716580800@xabiajove.com
SUMMARY:PlayJove: Taller de Ball Urbà
DESCRIPTION:Divendres 24 de maig: Taller de Ball Urbà\, a partir de les 18:00 h
URL:https://xabiajove.com/event/playjove-taller-de-ball-urba/
ATTACH;FMTTYPE=image/png:https://xabiajove.com/cont/uploads/2024/04/ball-urba.png
END:VEVENT
BEGIN:VEVENT
DTSTART;TZID=Europe/Madrid:20240531T180000
DTEND;TZID=Europe/Madrid:20240531T200000
DTSTAMP:20260423T054128
CREATED:20240424T084833Z
LAST-MODIFIED:20240424T084833Z
UID:1230-1717178400-1717185600@xabiajove.com
SUMMARY:PlayJove: Festa Hello Summer
DESCRIPTION:Divendres 31 de maig: Festa Hello Summer\, amb BalanzBike\, Futbol 3×3 i disseny de samarretes\, a partir de les 18:00 h
URL:https://xabiajove.com/event/playjove-festa-hello-summer/
ATTACH;FMTTYPE=image/png:https://xabiajove.com/cont/uploads/2024/04/festa-hello-summer.png
END:VEVENT
END:VCALENDAR